BEGIN:VCALENDAR
VERSION:2.0
PRODID:-//Quazar, Centre LGBTI+ d&#039;Angers et du Maine-et-Loire - ECPv6.10.3//NONSGML v1.0//EN
CALSCALE:GREGORIAN
METHOD:PUBLISH
X-WR-CALNAME:Quazar, Centre LGBTI+ d&#039;Angers et du Maine-et-Loire
X-ORIGINAL-URL:https://old230819.quazar.fr
X-WR-CALDESC:Évènements pour Quazar, Centre LGBTI+ d&#039;Angers et du Maine-et-Loire
REFRESH-INTERVAL;VALUE=DURATION:PT1H
X-Robots-Tag:noindex
X-PUBLISHED-TTL:PT1H
BEGIN:VTIMEZONE
TZID:Europe/Helsinki
BEGIN:DAYLIGHT
TZOFFSETFROM:+0200
TZOFFSETTO:+0300
TZNAME:EEST
DTSTART:20220327T010000
END:DAYLIGHT
BEGIN:STANDARD
TZOFFSETFROM:+0300
TZOFFSETTO:+0200
TZNAME:EET
DTSTART:20221030T010000
END:STANDARD
BEGIN:DAYLIGHT
TZOFFSETFROM:+0200
TZOFFSETTO:+0300
TZNAME:EEST
DTSTART:20230326T010000
END:DAYLIGHT
BEGIN:STANDARD
TZOFFSETFROM:+0300
TZOFFSETTO:+0200
TZNAME:EET
DTSTART:20231029T010000
END:STANDARD
END:VTIMEZONE
BEGIN:VEVENT
DTSTART;TZID=Europe/Helsinki:20230502T190000
DTEND;TZID=Europe/Helsinki:20230502T210000
DTSTAMP:20260419T205935
CREATED:20230227T165710Z
LAST-MODIFIED:20230227T165716Z
UID:7125-1683054000-1683061200@old230819.quazar.fr
SUMMARY:TRANSparents
DESCRIPTION:Groupe d’échange pour les familles\, conjoint·es et proches de personnes transgenres\, agenres\, non-binaires\, intersexes ou en questionnement.
URL:https://old230819.quazar.fr/evenement/transparents-3/
LOCATION:Quazar Centre LGBTI+\, 15 rue de Jérusalem\, Angers\, 49100
CATEGORIES:TRANSparents
ATTACH;FMTTYPE=image/png:https://old230819.quazar.fr/wp-content/uploads/2022/09/TransParents-TTI-400x400-1.png
END:VEVENT
BEGIN:VEVENT
DTSTART;TZID=Europe/Helsinki:20230415T150000
DTEND;TZID=Europe/Helsinki:20230415T170000
DTSTAMP:20260419T205935
CREATED:20230227T162736Z
LAST-MODIFIED:20230714T104736Z
UID:7109-1681570800-1681578000@old230819.quazar.fr
SUMMARY:Trans@
DESCRIPTION:Groupe d’échanges en non mixité\, par et pour les personnes transgenres\, agenres\, non binaires et en questionnement. Deux heures de rencontre entre personnes concernées\, d’échanges\, de questions réponses\, de contacts\, d’aide possible aux démarches\, de soutien…
URL:https://old230819.quazar.fr/evenement/trans-3/
LOCATION:Quazar Centre LGBTI+\, 15 rue de Jérusalem\, Angers\, 49100
CATEGORIES:Trans@
ATTACH;FMTTYPE=image/png:https://old230819.quazar.fr/wp-content/uploads/2023/02/TTI-Trans@-400-400-agenda.png
END:VEVENT
BEGIN:VEVENT
DTSTART;TZID=Europe/Helsinki:20230408T150000
DTEND;TZID=Europe/Helsinki:20230408T170000
DTSTAMP:20260419T205935
CREATED:20230227T172607Z
LAST-MODIFIED:20230227T172607Z
UID:7142-1680966000-1680973200@old230819.quazar.fr
SUMMARY:TRANSfamille
DESCRIPTION:Un temps de rencontre pour les parents et les jeunes reuni·es\, échangeant avec d’autres familles amies. On s’écoute\, on échange\, on s’entraide ensemble.
URL:https://old230819.quazar.fr/evenement/transfamille/
LOCATION:Quazar Centre LGBTI+\, 15 rue de Jérusalem\, Angers\, 49100
CATEGORIES:TRANSfamille
ATTACH;FMTTYPE=image/png:https://old230819.quazar.fr/wp-content/uploads/2023/02/couple-hetero-ado.png
END:VEVENT
BEGIN:VEVENT
DTSTART;TZID=Europe/Helsinki:20230406T190000
DTEND;TZID=Europe/Helsinki:20230406T210000
DTSTAMP:20260419T205935
CREATED:20230227T165705Z
LAST-MODIFIED:20230227T165705Z
UID:7124-1680807600-1680814800@old230819.quazar.fr
SUMMARY:TRANSparents
DESCRIPTION:Groupe d’échange pour les familles\, conjoint·es et proches de personnes transgenres\, agenres\, non-binaires\, intersexes ou en questionnement.
URL:https://old230819.quazar.fr/evenement/transparents-2/
LOCATION:Quazar Centre LGBTI+\, 15 rue de Jérusalem\, Angers\, 49100
CATEGORIES:TRANSparents
ATTACH;FMTTYPE=image/png:https://old230819.quazar.fr/wp-content/uploads/2022/09/TransParents-TTI-400x400-1.png
END:VEVENT
BEGIN:VEVENT
DTSTART;TZID=Europe/Helsinki:20230318T150000
DTEND;TZID=Europe/Helsinki:20230318T170000
DTSTAMP:20260419T205935
CREATED:20230223T171519Z
LAST-MODIFIED:20230319T094107Z
UID:7079-1679151600-1679158800@old230819.quazar.fr
SUMMARY:TRANS@
DESCRIPTION:Groupe d’échanges en non mixité\, par et pour les personnes transgenres\, agenres\, non binaireset en questionnement.  \nDeux heures de rencontre entre personnes concernées\, d’échanges\, de questions réponses\, de contacts\, d’aide possible aux démarches\, de soutien… \n  \n  \n 
URL:https://old230819.quazar.fr/evenement/trans-2/
LOCATION:Quazar Centre LGBTI+\, 15 rue de Jérusalem\, Angers\, 49100
CATEGORIES:Trans@
ATTACH;FMTTYPE=image/png:https://old230819.quazar.fr/wp-content/uploads/2023/02/TTI-Trans@-400-400-agenda.png
END:VEVENT
BEGIN:VEVENT
DTSTART;TZID=Europe/Helsinki:20230307T190000
DTEND;TZID=Europe/Helsinki:20230307T210000
DTSTAMP:20260419T205935
CREATED:20230227T165704Z
LAST-MODIFIED:20230227T165704Z
UID:7123-1678215600-1678222800@old230819.quazar.fr
SUMMARY:TRANSparents
DESCRIPTION:Groupe d’échange pour les familles\, conjoint·es et proches de personnes transgenres\, agenres\, non-binaires\, intersexes ou en questionnement.
URL:https://old230819.quazar.fr/evenement/transparents/
LOCATION:Quazar Centre LGBTI+\, 15 rue de Jérusalem\, Angers\, 49100
CATEGORIES:TRANSparents
ATTACH;FMTTYPE=image/png:https://old230819.quazar.fr/wp-content/uploads/2022/09/TransParents-TTI-400x400-1.png
END:VEVENT
BEGIN:VEVENT
DTSTART;TZID=Europe/Helsinki:20221217T150000
DTEND;TZID=Europe/Helsinki:20221217T170000
DTSTAMP:20260419T205935
CREATED:20220826T131024Z
LAST-MODIFIED:20220826T131130Z
UID:6330-1671289200-1671296400@old230819.quazar.fr
SUMMARY:Trans@
DESCRIPTION:Groupe de parole non mixte\, par et pour les personnes transgenres\, agenres\, non binaires et en questionnement. Deux heures de rencontre\, d’échanges\, de questions réponses\, de contacts\, d’aide aux démarches\, de soutien…
URL:https://old230819.quazar.fr/evenement/trans-dec-22/
LOCATION:Quazar Centre LGBTI+\, 15 rue de Jérusalem\, Angers\, 49100
CATEGORIES:Trans@
ATTACH;FMTTYPE=image/jpeg:https://old230819.quazar.fr/wp-content/uploads/2020/07/Q_200727_trans@.jpg
END:VEVENT
BEGIN:VEVENT
DTSTART;TZID=Europe/Helsinki:20221119T150000
DTEND;TZID=Europe/Helsinki:20221119T170000
DTSTAMP:20260419T205935
CREATED:20220826T130923Z
LAST-MODIFIED:20220826T131103Z
UID:6328-1668870000-1668877200@old230819.quazar.fr
SUMMARY:Trans@
DESCRIPTION:Groupe de parole non mixte\, par et pour les personnes transgenres\, agenres\, non binaires et en questionnement. Deux heures de rencontre\, d’échanges\, de questions réponses\, de contacts\, d’aide aux démarches\, de soutien…
URL:https://old230819.quazar.fr/evenement/trans-aout-22/
LOCATION:Quazar Centre LGBTI+\, 15 rue de Jérusalem\, Angers\, 49100
CATEGORIES:Trans@
ATTACH;FMTTYPE=image/jpeg:https://old230819.quazar.fr/wp-content/uploads/2020/07/Q_200727_trans@.jpg
END:VEVENT
BEGIN:VEVENT
DTSTART;TZID=Europe/Helsinki:20221015T153000
DTEND;TZID=Europe/Helsinki:20221015T173000
DTSTAMP:20260419T205935
CREATED:20220826T130719Z
LAST-MODIFIED:20221013T164856Z
UID:6326-1665847800-1665855000@old230819.quazar.fr
SUMMARY:Trans@
DESCRIPTION:TRANS@ c’est le groupe de d’échanges safe pour les personnes transgenres\, agenres\, non-binaires\, et en questionnement.\nLes échanges et partages sont menés par des membres de la Team Trans Inter concerné·es.\nDeux heures de partages\, d’échanges\, de questions réponses\, de contacts\, d’aide aux démarches\, de soutien. \nCe groupe n’accueille pas de personnes cisgenres ou de parents\, pour qui il existe TRANSparents.
URL:https://old230819.quazar.fr/evenement/trans-oct-22/
LOCATION:Quazar Centre LGBTI+\, 15 rue de Jérusalem\, Angers\, 49100
CATEGORIES:Trans@
ATTACH;FMTTYPE=image/jpeg:https://old230819.quazar.fr/wp-content/uploads/2020/07/Q_200727_trans@.jpg
END:VEVENT
BEGIN:VEVENT
DTSTART;TZID=Europe/Helsinki:20221006T190000
DTEND;TZID=Europe/Helsinki:20221006T210000
DTSTAMP:20260419T205935
CREATED:20220826T125711Z
LAST-MODIFIED:20220930T213244Z
UID:6320-1665082800-1665090000@old230819.quazar.fr
SUMMARY:TRANS­parents
DESCRIPTION:La Team Trans Inter de Quazar propose TRANSparents. \nTRANSparents c’est le groupe d’échanges pour les parents\, conjoint·es et ami·es d’enfants et de personnes transgenres\, agenres\, non-binaires ou intersexes. \nSœur\, frère\, oncle\, tante\, cousin\, cousine\, grands-parents\, tou·te·s les membres de la famille et proches sont invité·es à participer à ce groupe. \nUn temps pour celles et ceux qui cherchent un espace bienveillant pour découvrir la transidentité\, exprimer leurs sentiments\, partager leur vécu et leurs expériences\, poser des questions\, avec d’autres parents et proches\, en rencontrant d’autres personnes transgenres ou non-binaires de Quazar. \nAu cours de cette rencontre\, vous pourrez vous exprimer\, vous épauler les un·e·s les autres. \nL’inscription par mail est demandée pour vous accueillir dans les meilleures conditions. \n  \nhttps://old230819.quazar.fr/team-trans/ \n Inscription sur le Team Trans mail
URL:https://old230819.quazar.fr/evenement/trans-parents/
LOCATION:Quazar Centre LGBTI+\, 15 rue de Jérusalem\, Angers\, 49100
CATEGORIES:TRANSparents
ATTACH;FMTTYPE=image/png:https://old230819.quazar.fr/wp-content/uploads/2021/10/TransParents-Team-Trans-400x400-1.png
END:VEVENT
BEGIN:VEVENT
DTSTART;TZID=Europe/Helsinki:20220917T150000
DTEND;TZID=Europe/Helsinki:20220917T170000
DTSTAMP:20260419T205935
CREATED:20220826T130312Z
LAST-MODIFIED:20220826T130557Z
UID:6324-1663426800-1663434000@old230819.quazar.fr
SUMMARY:Trans@
DESCRIPTION:Groupe de parole non mixte\, par et pour les personnes transgenres\, agenres\, non binaires et en questionnement. Deux heures de rencontre\, d’échanges\, de questions réponses\, de contacts\, d’aide aux démarches\, de soutien…
URL:https://old230819.quazar.fr/evenement/trans-sept-22/
LOCATION:Quazar Centre LGBTI+\, 15 rue de Jérusalem\, Angers\, 49100
CATEGORIES:Trans@
ATTACH;FMTTYPE=image/jpeg:https://old230819.quazar.fr/wp-content/uploads/2020/07/Q_200727_trans@.jpg
END:VEVENT
BEGIN:VEVENT
DTSTART;TZID=Europe/Helsinki:20220906T190000
DTEND;TZID=Europe/Helsinki:20220906T210000
DTSTAMP:20260419T205935
CREATED:20220826T125407Z
LAST-MODIFIED:20220826T130419Z
UID:6317-1662490800-1662498000@old230819.quazar.fr
SUMMARY:TRANS­parents
DESCRIPTION:TRANSparents\, le rendez-vous proposé par la Team Trans de Quazar. \nTRANSparents c’est le groupe de parole destiné aux parents et aux familles de personnes transgenres\, agenres\, non-binaires\, qui viennent poser des questions\, échanger\, évoquer leurs difficultés\, leur expérience\, se soutenir mutuellement. Les membres de la Team Trans sont là pour les écouter\, répondre à d’éventuelles questions\, faire circuler la parole. \nToutes les personnes concernées sont les bienvenues.\nL’inscription sur le Team Trans mail est demandée pour vous accueillir dans les meilleures conditions. \n Inscription sur le Team Trans mail
URL:https://old230819.quazar.fr/evenement/transparents-sept-22/
LOCATION:Quazar Centre LGBTI+\, 15 rue de Jérusalem\, Angers\, 49100
CATEGORIES:TRANSparents
ATTACH;FMTTYPE=image/png:https://old230819.quazar.fr/wp-content/uploads/2021/10/TransParents-Team-Trans-400x400-1.png
END:VEVENT
BEGIN:VEVENT
DTSTART;TZID=Europe/Helsinki:20220820T150000
DTEND;TZID=Europe/Helsinki:20220820T170000
DTSTAMP:20260419T205935
CREATED:20220724T155114Z
LAST-MODIFIED:20230223T142458Z
UID:5696-1661007600-1661014800@old230819.quazar.fr
SUMMARY:TRANS@
DESCRIPTION:Groupe d’échanges en non mixité\, par et pour les personnes transgenres\, agenres\, non binaires et en questionnement. Deux heures de rencontre entre personnes concernées\, d’échanges\, de questions réponses\, de contacts\, d’aide possible aux démarches\, de soutien…
URL:https://old230819.quazar.fr/evenement/trans/
LOCATION:Quazar Centre LGBTI+\, 15 rue de Jérusalem\, Angers\, 49100
CATEGORIES:Trans@
ATTACH;FMTTYPE=image/jpeg:https://old230819.quazar.fr/wp-content/uploads/2020/07/Q_200727_trans@.jpg
END:VEVENT
BEGIN:VEVENT
DTSTART;TZID=Europe/Helsinki:20220804T190000
DTEND;TZID=Europe/Helsinki:20220804T210000
DTSTAMP:20260419T205935
CREATED:20220724T112548Z
LAST-MODIFIED:20220826T125914Z
UID:5518-1659639600-1659646800@old230819.quazar.fr
SUMMARY:TRANS­parents
DESCRIPTION:TRANSparents\, le rendez-vous proposé par la Team Trans de Quazar. \nTRANSparents c’est le groupe de parole destiné aux parents et aux familles de personnes transgenres\, agenres\, non-binaires\, qui viennent poser des questions\, échanger\, évoquer leurs difficultés\, leur expérience\, se soutenir mutuellement. Les membres de la Team Trans sont là pour les écouter\, répondre à d’éventuelles questions\, faire circuler la parole. \nToutes les personnes concernées sont les bienvenues.\nL’inscription sur le Team Trans mail est demandée pour vous accueillir dans les meilleures conditions. \n Inscription sur le Team Trans mail
URL:https://old230819.quazar.fr/evenement/transparents-aout-22/
LOCATION:Quazar Centre LGBTI+\, 15 rue de Jérusalem\, Angers\, 49100
CATEGORIES:TRANSparents
ATTACH;FMTTYPE=image/png:https://old230819.quazar.fr/wp-content/uploads/2021/10/TransParents-Team-Trans-400x400-1.png
END:VEVENT
END:VCALENDAR