BEGIN:VCALENDAR
VERSION:2.0
PRODID:-//Quazar, Centre LGBTI+ d&#039;Angers et du Maine-et-Loire - ECPv6.10.3//NONSGML v1.0//EN
CALSCALE:GREGORIAN
METHOD:PUBLISH
X-ORIGINAL-URL:https://old230819.quazar.fr
X-WR-CALDESC:Évènements pour Quazar, Centre LGBTI+ d&#039;Angers et du Maine-et-Loire
REFRESH-INTERVAL;VALUE=DURATION:PT1H
X-Robots-Tag:noindex
X-PUBLISHED-TTL:PT1H
BEGIN:VTIMEZONE
TZID:Europe/Helsinki
BEGIN:DAYLIGHT
TZOFFSETFROM:+0200
TZOFFSETTO:+0300
TZNAME:EEST
DTSTART:20220327T010000
END:DAYLIGHT
BEGIN:STANDARD
TZOFFSETFROM:+0300
TZOFFSETTO:+0200
TZNAME:EET
DTSTART:20221030T010000
END:STANDARD
END:VTIMEZONE
BEGIN:VEVENT
DTSTART;TZID=Europe/Helsinki:20220813T143000
DTEND;TZID=Europe/Helsinki:20220813T173000
DTSTAMP:20260419T175456
CREATED:20220724T154024Z
LAST-MODIFIED:20220808T100654Z
UID:5692-1660401000-1660411800@old230819.quazar.fr
SUMMARY:Tournoi de Foot de l'été
DESCRIPTION:Après-midi détente du pôle droits des étranger.es\, édition 2019\, photo ©Quazar.\nSecond rendez-vous foot de l’été avec Quazar. Nouveau lieu\, mais toujours le plaisir de taper dans le ballon\, ou pour celles et ceux qui le veulent jouer à d’autres jeux\, en prenant l’air : jeux de cartes\, tir à la corde\, pétanque\, etc. \nRendez-vous au Parc Bellefontaine\, entre la rue Louis Gain et l’avenue Montaigne\, derrière le Conservatoire de musique d’Angers. \nOn forme les équipes sur place\, et on joue bon enfant\, pas de triche ! Rejoignez-nous !
URL:https://old230819.quazar.fr/evenement/tournoi-de-foot-de-lete-aout-2022/
LOCATION:Parc Bellefontaine\, 11 Rue Louis Gain\, Angers\, 49100\, France
CATEGORIES:Tournoi de foot
ATTACH;FMTTYPE=image/jpeg:https://old230819.quazar.fr/wp-content/uploads/2020/07/Q_200725_pde-samedi-detente.jpg
END:VEVENT
BEGIN:VEVENT
DTSTART;TZID=Europe/Helsinki:20220807T140000
DTEND;TZID=Europe/Helsinki:20220807T170000
DTSTAMP:20260419T175456
CREATED:20220724T133348Z
LAST-MODIFIED:20220729T060534Z
UID:5536-1659880800-1659891600@old230819.quazar.fr
SUMMARY:Après-midi jeux
DESCRIPTION:On apporte éventuellement ses jeux et on joue ensemble.\nTemps très fréquenté par les demandeur·euse·s d’asile.
URL:https://old230819.quazar.fr/evenement/apres-midi-jeux/
LOCATION:Quazar Centre LGBTI+\, 15 rue de Jérusalem\, Angers\, 49100
CATEGORIES:Après-midi jeux
ATTACH;FMTTYPE=image/jpeg:https://old230819.quazar.fr/wp-content/uploads/2022/07/uploded_istock-615419388-1527763670.jpg
END:VEVENT
BEGIN:VEVENT
DTSTART;TZID=Europe/Helsinki:20220723T143000
DTEND;TZID=Europe/Helsinki:20220723T173000
DTSTAMP:20260419T175456
CREATED:20220724T153112Z
LAST-MODIFIED:20220729T061329Z
UID:5687-1658586600-1658597400@old230819.quazar.fr
SUMMARY:Tournoi de Foot de l'été
DESCRIPTION:Après-midi détente du pôle droits des étranger.es\, édition 2019\, photo ©Quazar.\nNouveau lieu\, mais toujours le plaisir de taper dans le ballon\, ou pour celles et ceux qui le veulent jouer à d’autres jeux\, en prenant l’air. \nRendez-vous au Parc Bellefontaine\, entre la rue Louis Gain et l’avenue Montaigne\, derrière le Conservatoire de musique d’Angers. \nOn forme les équipes sur place\, et on joue bon enfant\, pas de triche ! Rejoignez-nous !
URL:https://old230819.quazar.fr/evenement/tournoi-de-foot-de-lete/
LOCATION:Parc Bellefontaine\, 11 Rue Louis Gain\, Angers\, 49100\, France
CATEGORIES:Tournoi de foot
ATTACH;FMTTYPE=image/jpeg:https://old230819.quazar.fr/wp-content/uploads/2020/07/Q_200725_pde-samedi-detente.jpg
END:VEVENT
BEGIN:VEVENT
DTSTART;TZID=Europe/Helsinki:20220710T123000
DTEND;TZID=Europe/Helsinki:20220710T170000
DTSTAMP:20260419T175456
CREATED:20220724T142059Z
LAST-MODIFIED:20220729T060722Z
UID:5622-1657456200-1657472400@old230819.quazar.fr
SUMMARY:Pique-nique de l'été
DESCRIPTION:On apporte son pique-nique et on passe ensemble un bon moment\, y compris avec des jeux qu’on amène ou que l’on fait découvrir…
URL:https://old230819.quazar.fr/evenement/pique-nique-de-lete/
LOCATION:Parc François Mitterrand\, Angers
CATEGORIES:Pique-nique
ATTACH;FMTTYPE=image/jpeg:https://old230819.quazar.fr/wp-content/uploads/2020/07/pique-nique-540.jpg
END:VEVENT
END:VCALENDAR